Index of /checkResults/release/bioc-LATEST/consensusOV/raw-results/nebbiolo1

[ICO]NameLast modifiedSizeDescription

[DIR]Parent Directory  -  
[TXT]buildsrc-out.txt16-Aug-2022 02:20 822  
[   ]buildsrc-summary.dcf16-Aug-2022 02:20 430  
[TXT]checksrc-out.txt16-Aug-2022 02:20 3.3K 
[   ]checksrc-summary.dcf16-Aug-2022 02:20 440  
[TXT]install-out.txt16-Aug-2022 02:20 1.0K 
[   ]install-summary.dcf16-Aug-2022 02:20 267