Name | Last modified | Size | Description | |
---|---|---|---|---|
Parent Directory | - | |||
kjohnson3/ | 12-Jun-2024 03:43 | - | ||
kunpeng2/ | 10-May-2024 00:40 | - | ||
lconway/ | 12-Jun-2024 03:42 | - | ||
merida1/ | 05-Mar-2024 01:39 | - | ||
nebbiolo1/ | 15-Jun-2024 03:37 | - | ||
palomino3/ | 15-Jun-2024 03:38 | - | ||
info.dcf | 15-Jun-2024 03:37 | 275 | ||