Back to Multiple platform build/check report for BioC 3.14
AB[C]DEFGHIJKLMNOPQRSTUVWXYZ

This page was generated on 2021-11-29 15:05:17 -0500 (Mon, 29 Nov 2021).

BUILD BIN results for compartmap on tokay2

To the developers/maintainers of the compartmap package:
- Please allow up to 24 hours (and sometimes 48 hours) for your latest push to git@git.bioconductor.org:packages/compartmap.git to
reflect on this report. See How and When does the builder pull? When will my changes propagate? here for more information.
- Make sure to use the following settings in order to reproduce any error or warning you see on this page.

raw results

Package 376/2083HostnameOS / ArchINSTALLBUILDCHECKBUILD BIN
compartmap 1.12.0  (landing page)
Benjamin Johnson
Snapshot Date: 2021-11-28 04:15:06 -0500 (Sun, 28 Nov 2021)
git_url: https://git.bioconductor.org/packages/compartmap
git_branch: RELEASE_3_14
git_last_commit: 3fce1b6
git_last_commit_date: 2021-10-26 12:48:10 -0500 (Tue, 26 Oct 2021)
nebbiolo2Linux (Ubuntu 20.04.3 LTS) / x86_64  OK    OK    OK  UNNEEDED, same version is already published
tokay2Windows Server 2012 R2 Standard / x64  OK    OK    OK    OK  UNNEEDED, same version is already published
machv2macOS 10.14.6 Mojave / x86_64  OK    OK    OK    OK  UNNEEDED, same version is already published

Summary

Package: compartmap
Version: 1.12.0
Command: rm -rf compartmap.buildbin-libdir && mkdir compartmap.buildbin-libdir && C:\Users\biocbuild\bbs-3.14-bioc\R\bin\R.exe CMD INSTALL --merge-multiarch --build --library=compartmap.buildbin-libdir compartmap_1.12.0.tar.gz
StartedAt: 2021-11-29 08:30:49 -0500 (Mon, 29 Nov 2021)
EndedAt: 2021-11-29 08:32:17 -0500 (Mon, 29 Nov 2021)
EllapsedTime: 88.2 seconds
RetCode: 0
Status:   OK  
PackageFile: compartmap_1.12.0.zip
PackageFileSize: 3.85 MiB

Command output

##############################################################################
##############################################################################
###
### Running command:
###
###   rm -rf compartmap.buildbin-libdir && mkdir compartmap.buildbin-libdir && C:\Users\biocbuild\bbs-3.14-bioc\R\bin\R.exe CMD INSTALL --merge-multiarch --build --library=compartmap.buildbin-libdir compartmap_1.12.0.tar.gz
###
##############################################################################
##############################################################################



install for i386

* installing *source* package 'compartmap' ...
** using staged installation
** R
** data
** inst
** byte-compile and prepare package for lazy loading
** help
*** installing help indices
  converting help for package 'compartmap'
    finding HTML links ... done
    agrestiCoullCI                          html  
    bootstrapCompartments                   html  
    checkAssayType                          html  
    condenseRE                              html  
    condenseSE                              html  
    dot-n_approx                            html  
    dot-p_approx                            html  
    dot-z                                   html  
    estRMT                                  html  
    extractOpenClosed                       html  
    fexpit                                  html  
    filterCompartments                      html  
    fisherZ                                 html  
    fixCompartments                         html  
    flogit                                  html  
    getABSignal                             html  
    getATACABsignal                         html  
    getAssayNames                           html  
    getBinMatrix                            html  
    getChrs                                 html  
    getCorMatrix                            html  
    getDenoisedMatrix                       html  
    getDomainInflections                    html  
    getGlobalMeans                          html  
    getMatrixBlocks                         html  
    getSVD                                  html  
    getSeqLengths                           html  
    getShrinkageTargets                     html  
    hdf5TFIDF                               html  
    hg19.gr                                 html  
    hg38.gr                                 html  
    ifisherZ                                html  
    importBigWig                            html  
    k562_scatac_chr14                       html  
    k562_scrna_chr14                        html  
    k562_scrna_se_chr14                     html  
    meanSmoother                            html  
    mm10.gr                                 html  
    mm9.gr                                  html  
    plotAB                                  html  
    plotCorMatrix                           html  
    precomputeBootstrapMeans                html  
    removeEmptyBoots                        html  
    scCompartments                          html  
    shrinkBins                              html  
    sparseToDenseMatrix                     html  
    ss3_umi_sce                             html  
    summarizeBootstraps                     html  
    transformTFIDF                          html  
*** copying figures
** building package indices
** installing vignettes
** testing if installed package can be loaded from temporary location
** testing if installed package can be loaded from final location
** testing if installed package keeps a record of temporary installation path

install for x64

* installing *source* package 'compartmap' ...
** testing if installed package can be loaded
* MD5 sums
packaged installation of 'compartmap' as compartmap_1.12.0.zip
* DONE (compartmap)