Index of /checkResults/release/bioc-LATEST/compartmap/raw-results/palomino4

[ICO]NameLast modifiedSizeDescription

[DIR]Parent Directory  -  
[TXT]buildbin-out.txt30-Mar-2024 00:36 1.1K 
[   ]buildbin-summary.dcf30-Mar-2024 00:36 533  
[TXT]buildsrc-out.txt30-Mar-2024 00:36 914  
[   ]buildsrc-summary.dcf30-Mar-2024 00:36 465  
[TXT]checksrc-out.txt30-Mar-2024 00:36 8.8K 
[   ]checksrc-summary.dcf30-Mar-2024 00:36 459  
[TXT]install-out.txt30-Mar-2024 00:36 1.0K 
[   ]install-summary.dcf30-Mar-2024 00:36 274