Name | Last modified | Size | Description | |
---|---|---|---|---|
Parent Directory | - | |||
install-summary.dcf | 12-Jun-2024 03:39 | 265 | ||
install-out.txt | 12-Jun-2024 03:39 | 1.2K | ||
checksrc-summary.dcf | 12-Jun-2024 03:39 | 430 | ||
checksrc-out.txt | 12-Jun-2024 03:39 | 9.8K | ||
buildsrc-summary.dcf | 12-Jun-2024 03:39 | 427 | ||
buildsrc-out.txt | 12-Jun-2024 03:39 | 881 | ||