Index of /checkResults/release/bioc-LATEST/compartmap/raw-results/lconway

[ICO]NameLast modifiedSizeDescription

[DIR]Parent Directory  -  
[TXT]buildbin-out.txt05-Mar-2024 01:37 1.2K 
[   ]buildbin-summary.dcf05-Mar-2024 01:37 548  
[TXT]buildsrc-out.txt05-Mar-2024 01:37 891  
[   ]buildsrc-summary.dcf05-Mar-2024 01:37 437  
[TXT]checksrc-out.txt05-Mar-2024 01:37 9.0K 
[   ]checksrc-summary.dcf05-Mar-2024 01:37 456  
[TXT]install-out.txt05-Mar-2024 01:37 1.0K 
[   ]install-summary.dcf05-Mar-2024 01:37 275