Index of /checkResults/release/bioc-LATEST/compartmap/raw-results/kunpeng2

[ICO]NameLast modifiedSizeDescription

[DIR]Parent Directory  -  
[TXT]buildsrc-out.txt03-Nov-2023 00:40 875  
[   ]buildsrc-summary.dcf03-Nov-2023 00:40 421  
[TXT]checksrc-out.txt03-Nov-2023 00:40 15K 
[   ]checksrc-summary.dcf03-Nov-2023 00:40 433  
[TXT]install-out.txt03-Nov-2023 00:40 1.0K 
[   ]install-summary.dcf03-Nov-2023 00:40 259