Name | Last modified | Size | Description | |
---|---|---|---|---|
Parent Directory | - | |||
checksrc-out.txt | 27-Jul-2024 06:38 | 6.5K | ||
buildsrc-out.txt | 27-Jul-2024 06:38 | 1.2K | ||
install-out.txt | 27-Jul-2024 06:38 | 1.1K | ||
checksrc-summary.dcf | 27-Jul-2024 06:38 | 434 | ||
buildsrc-summary.dcf | 27-Jul-2024 06:38 | 432 | ||
install-summary.dcf | 27-Jul-2024 06:38 | 269 | ||