Name | Last modified | Size | Description | |
---|---|---|---|---|
Parent Directory | - | |||
buildbin-out.txt | 26-Jun-2024 06:41 | 1.1K | ||
buildbin-summary.dcf | 26-Jun-2024 06:41 | 522 | ||
buildsrc-out.txt | 26-Jun-2024 06:41 | 874 | ||
buildsrc-summary.dcf | 26-Jun-2024 06:41 | 421 | ||
checksrc-out.txt | 26-Jun-2024 06:41 | 4.5K | ||
checksrc-summary.dcf | 26-Jun-2024 06:41 | 438 | ||
install-out.txt | 26-Jun-2024 06:41 | 1.0K | ||
install-summary.dcf | 26-Jun-2024 06:41 | 267 | ||