Back to Multiple platform build/check report for BioC 3.18: simplified long |
|
This page was generated on 2024-03-29 11:35:52 -0400 (Fri, 29 Mar 2024).
Hostname | OS | Arch (*) | R version | Installed pkgs |
---|---|---|---|---|
nebbiolo2 | Linux (Ubuntu 22.04.3 LTS) | x86_64 | 4.3.3 (2024-02-29) -- "Angel Food Cake" | 4669 |
palomino4 | Windows Server 2022 Datacenter | x64 | 4.3.3 (2024-02-29 ucrt) -- "Angel Food Cake" | 4404 |
merida1 | macOS 12.7.1 Monterey | x86_64 | 4.3.3 (2024-02-29) -- "Angel Food Cake" | 4427 |
Click on any hostname to see more info about the system (e.g. compilers) (*) as reported by 'uname -p', except on Windows and Mac OS X |
Package 407/2266 | Hostname | OS / Arch | INSTALL | BUILD | CHECK | BUILD BIN | ||||||||
comapr 1.6.1 (landing page) Ruqian Lyu
| nebbiolo2 | Linux (Ubuntu 22.04.3 LTS) / x86_64 | OK | OK | OK | |||||||||
palomino4 | Windows Server 2022 Datacenter / x64 | OK | OK | OK | OK | |||||||||
merida1 | macOS 12.7.1 Monterey / x86_64 | OK | OK | OK | OK | |||||||||
kjohnson1 | macOS 13.6.1 Ventura / arm64 | see weekly results here | ||||||||||||
To the developers/maintainers of the comapr package: - Allow up to 24 hours (and sometimes 48 hours) for your latest push to git@git.bioconductor.org:packages/comapr.git to reflect on this report. See Troubleshooting Build Report for more information. - Use the following Renviron settings to reproduce errors and warnings. - If 'R CMD check' started to fail recently on the Linux builder(s) over a missing dependency, add the missing dependency to 'Suggests:' in your DESCRIPTION file. See Renviron.bioc for more information. |
Package: comapr |
Version: 1.6.1 |
Command: /home/biocbuild/bbs-3.18-bioc/R/bin/R CMD check --install=check:comapr.install-out.txt --library=/home/biocbuild/bbs-3.18-bioc/R/site-library --timings comapr_1.6.1.tar.gz |
StartedAt: 2024-03-27 21:22:39 -0400 (Wed, 27 Mar 2024) |
EndedAt: 2024-03-27 21:30:06 -0400 (Wed, 27 Mar 2024) |
EllapsedTime: 447.3 seconds |
RetCode: 0 |
Status: OK |
CheckDir: comapr.Rcheck |
Warnings: 0 |
############################################################################## ############################################################################## ### ### Running command: ### ### /home/biocbuild/bbs-3.18-bioc/R/bin/R CMD check --install=check:comapr.install-out.txt --library=/home/biocbuild/bbs-3.18-bioc/R/site-library --timings comapr_1.6.1.tar.gz ### ############################################################################## ############################################################################## * using log directory ‘/home/biocbuild/bbs-3.18-bioc/meat/comapr.Rcheck’ * using R version 4.3.3 (2024-02-29) * using platform: x86_64-pc-linux-gnu (64-bit) * R was compiled by gcc (Ubuntu 11.4.0-1ubuntu1~22.04) 11.4.0 GNU Fortran (Ubuntu 11.4.0-1ubuntu1~22.04) 11.4.0 * running under: Ubuntu 22.04.4 LTS * using session charset: UTF-8 * checking for file ‘comapr/DESCRIPTION’ ... OK * this is package ‘comapr’ version ‘1.6.1’ * package encoding: UTF-8 * checking package namespace information ... OK * checking package dependencies ... OK * checking if this is a source package ... OK * checking if there is a namespace ... OK * checking for hidden files and directories ... OK * checking for portable file names ... OK * checking for sufficient/correct file permissions ... OK * checking whether package ‘comapr’ can be installed ... OK * checking installed package size ... OK * checking package directory ... OK * checking ‘build’ directory ... OK * checking DESCRIPTION meta-information ... OK * checking top-level files ... OK * checking for left-over files ... OK * checking index information ... OK * checking package subdirectories ... OK * checking R files for non-ASCII characters ... OK * checking R files for syntax errors ... OK * checking whether the package can be loaded ... OK * checking whether the package can be loaded with stated dependencies ... OK * checking whether the package can be unloaded cleanly ... OK * checking whether the namespace can be loaded with stated dependencies ... OK * checking whether the namespace can be unloaded cleanly ... OK * checking loading without being on the library search path ... OK * checking dependencies in R code ... OK * checking S3 generic/method consistency ... OK * checking replacement functions ... OK * checking foreign function calls ... OK * checking R code for possible problems ... OK * checking Rd files ... OK * checking Rd metadata ... OK * checking Rd cross-references ... OK * checking for missing documentation entries ... OK * checking for code/documentation mismatches ... OK * checking Rd \usage sections ... OK * checking Rd contents ... OK * checking for unstated dependencies in examples ... OK * checking contents of ‘data’ directory ... OK * checking data for non-ASCII characters ... OK * checking data for ASCII and uncompressed saves ... OK * checking files in ‘vignettes’ ... OK * checking examples ... OK * checking for unstated dependencies in ‘tests’ ... OK * checking tests ... Running ‘testthat.R’ OK * checking for unstated dependencies in vignettes ... OK * checking package vignettes in ‘inst/doc’ ... OK * checking running R code from vignettes ... ‘getStarted.Rmd’ using ‘UTF-8’... OK ‘single-sperm-co-analysis.Rmd’ using ‘UTF-8’... OK NONE * checking re-building of vignette outputs ... OK * checking PDF version of manual ... OK * DONE Status: OK
comapr.Rcheck/00install.out
############################################################################## ############################################################################## ### ### Running command: ### ### /home/biocbuild/bbs-3.18-bioc/R/bin/R CMD INSTALL comapr ### ############################################################################## ############################################################################## * installing to library ‘/home/biocbuild/bbs-3.18-bioc/R/site-library’ * installing *source* package ‘comapr’ ... ** using staged installation ** R ** data ** inst ** byte-compile and prepare package for lazy loading ** help *** installing help indices ** building package indices ** installing vignettes ** testing if installed package can be loaded from temporary location ** testing if installed package can be loaded from final location ** testing if installed package keeps a record of temporary installation path * DONE (comapr)
comapr.Rcheck/tests/testthat.Rout
R version 4.3.3 (2024-02-29) -- "Angel Food Cake" Copyright (C) 2024 The R Foundation for Statistical Computing Platform: x86_64-pc-linux-gnu (64-bit) R is free software and comes with ABSOLUTELY NO WARRANTY. You are welcome to redistribute it under certain conditions. Type 'license()' or 'licence()' for distribution details. R is a collaborative project with many contributors. Type 'contributors()' for more information and 'citation()' on how to cite R or R packages in publications. Type 'demo()' for some demos, 'help()' for on-line help, or 'help.start()' for an HTML browser interface to help. Type 'q()' to quit R. > library(testthat) > library(comapr) > > test_check("comapr") [ FAIL 0 | WARN 3 | SKIP 0 | PASS 91 ] [ FAIL 0 | WARN 3 | SKIP 0 | PASS 91 ] > > proc.time() user system elapsed 42.722 5.076 43.098
comapr.Rcheck/comapr-Ex.timings
name | user | system | elapsed | |
bootstrapDist | 4.126 | 0.223 | 4.351 | |
calGeneticDist | 0.147 | 0.288 | 0.150 | |
combineHapState | 1.721 | 0.204 | 1.925 | |
correctGT | 0.007 | 0.000 | 0.007 | |
countBinState | 0.339 | 0.012 | 0.930 | |
countCOs | 0.565 | 0.028 | 0.593 | |
countGT | 0.114 | 0.000 | 0.114 | |
filterGT | 0.082 | 0.000 | 0.082 | |
findDupSamples | 0.007 | 0.000 | 0.007 | |
getAFTracks | 1.042 | 0.008 | 1.050 | |
getCellAFTrack | 0.872 | 0.000 | 0.872 | |
getCellCORange | 0.358 | 0.000 | 0.357 | |
getCellDPTrack | 0.406 | 0.008 | 0.414 | |
getDistortedMarkers | 0.264 | 0.000 | 0.264 | |
getMeanDPTrack | 0.046 | 0.000 | 0.045 | |
getSNPDensityTrack | 0.044 | 0.000 | 0.044 | |
perCellChrQC | 0.037 | 0.004 | 0.041 | |
perSegChrQC | 0.049 | 0.004 | 0.053 | |
permuteDist | 0.022 | 0.000 | 0.022 | |
plotCount | 0.645 | 0.012 | 0.657 | |
plotGTFreq | 0.402 | 0.004 | 0.406 | |
plotGeneticDist | 0.341 | 0.000 | 0.341 | |
plotWholeGenome | 0.276 | 0.000 | 0.276 | |
readColMM | 0.006 | 0.000 | 0.006 | |
readHapState | 0.089 | 0.000 | 0.088 | |