Index of /checkResults/release/bioc-LATEST/cn.farms/raw-results/nebbiolo1

[ICO]NameLast modifiedSizeDescription

[DIR]Parent Directory  -  
[TXT]buildsrc-out.txt17-Jul-2024 06:38 903  
[   ]buildsrc-summary.dcf17-Jul-2024 06:38 420  
[TXT]checksrc-out.txt17-Jul-2024 06:38 9.8K 
[   ]checksrc-summary.dcf17-Jul-2024 06:38 418  
[TXT]install-out.txt17-Jul-2024 06:38 2.8K 
[   ]install-summary.dcf17-Jul-2024 06:38 261