Index of /checkResults/release/bioc-LATEST/cn.farms/raw-results/merida1

[ICO]NameLast modifiedSizeDescription

[DIR]Parent Directory  -  
[TXT]buildbin-out.txt10-Jul-2024 06:41 7.8K 
[   ]buildbin-summary.dcf10-Jul-2024 06:41 536  
[TXT]buildsrc-out.txt10-Jul-2024 06:41 913  
[   ]buildsrc-summary.dcf10-Jul-2024 06:41 430  
[TXT]checksrc-out.txt10-Jul-2024 06:41 10K 
[   ]checksrc-summary.dcf10-Jul-2024 06:41 448  
[TXT]install-out.txt10-Jul-2024 06:41 5.8K 
[   ]install-summary.dcf10-Jul-2024 06:41 271