Index of /checkResults/release/bioc-LATEST/cn.farms/raw-results/kjohnson1

[ICO]NameLast modifiedSizeDescription

[DIR]Parent Directory  -  
[TXT]buildbin-out.txt10-Jul-2024 06:43 7.8K 
[   ]buildbin-summary.dcf10-Jul-2024 06:43 536  
[TXT]buildsrc-out.txt10-Jul-2024 06:43 913  
[   ]buildsrc-summary.dcf10-Jul-2024 06:43 429  
[TXT]checksrc-out.txt10-Jul-2024 06:43 9.9K 
[   ]checksrc-summary.dcf10-Jul-2024 06:43 448  
[TXT]install-out.txt10-Jul-2024 06:43 5.8K 
[   ]install-summary.dcf10-Jul-2024 06:43 271