Back to Multiple platform build/check report for BioC 3.14
AB[C]DEFGHIJKLMNOPQRSTUVWXYZ

This page was generated on 2021-12-03 13:05:10 -0500 (Fri, 03 Dec 2021).

BUILD results for clusterExperiment on tokay2

To the developers/maintainers of the clusterExperiment package:
- Please allow up to 24 hours (and sometimes 48 hours) for your latest push to git@git.bioconductor.org:packages/clusterExperiment.git to
reflect on this report. See How and When does the builder pull? When will my changes propagate? here for more information.
- Make sure to use the following settings in order to reproduce any error or warning you see on this page.

raw results

Package 338/2083HostnameOS / ArchINSTALLBUILDCHECKBUILD BIN
clusterExperiment 2.14.0  (landing page)
Elizabeth Purdom
Snapshot Date: 2021-12-02 01:55:06 -0500 (Thu, 02 Dec 2021)
git_url: https://git.bioconductor.org/packages/clusterExperiment
git_branch: RELEASE_3_14
git_last_commit: c963b95
git_last_commit_date: 2021-10-26 12:28:54 -0500 (Tue, 26 Oct 2021)
nebbiolo2Linux (Ubuntu 20.04.3 LTS) / x86_64  OK    OK    WARNINGS  UNNEEDED, same version is already published
tokay2Windows Server 2012 R2 Standard / x64  OK    OK    WARNINGS    OK  UNNEEDED, same version is already published
machv2macOS 10.14.6 Mojave / x86_64  OK    OK    TIMEOUT    OK  

Summary

Package: clusterExperiment
Version: 2.14.0
Command: chmod a+r clusterExperiment -R && C:\Users\biocbuild\bbs-3.14-bioc\R\bin\R.exe CMD build --keep-empty-dirs --no-resave-data clusterExperiment
StartedAt: 2021-12-02 09:44:40 -0500 (Thu, 02 Dec 2021)
EndedAt: 2021-12-02 09:53:57 -0500 (Thu, 02 Dec 2021)
EllapsedTime: 556.6 seconds
RetCode: 0
Status:   OK  
PackageFile: clusterExperiment_2.14.0.tar.gz
PackageFileSize: 6.956 MiB

Command output

##############################################################################
##############################################################################
###
### Running command:
###
###   chmod a+r clusterExperiment -R && C:\Users\biocbuild\bbs-3.14-bioc\R\bin\R.exe CMD build --keep-empty-dirs --no-resave-data clusterExperiment
###
##############################################################################
##############################################################################


* checking for file 'clusterExperiment/DESCRIPTION' ... OK
* preparing 'clusterExperiment':
* checking DESCRIPTION meta-information ... OK
* cleaning src
* installing the package to build vignettes
* creating vignettes ... OK
* cleaning src
* checking for LF line-endings in source and make files and shell scripts
* checking for empty or unneeded directories
* looking to see if a 'data/datalist' file should be added
* building 'clusterExperiment_2.14.0.tar.gz'