Name | Last modified | Size | Description | |
---|---|---|---|---|
Parent Directory | - | |||
buildbin-out.txt | 12-Jun-2024 03:42 | 7.0K | ||
buildbin-summary.dcf | 12-Jun-2024 03:42 | 590 | ||
checksrc-summary.dcf | 12-Jun-2024 03:42 | 490 | ||
checksrc-out.txt | 12-Jun-2024 03:42 | 15K | ||
buildsrc-summary.dcf | 12-Jun-2024 03:42 | 458 | ||
buildsrc-out.txt | 12-Jun-2024 03:42 | 949 | ||
install-summary.dcf | 12-Jun-2024 03:42 | 290 | ||
install-out.txt | 12-Jun-2024 03:42 | 3.2K | ||