Back to Multiple platform build/check report for BioC 3.18:   simplified   long
AB[C]DEFGHIJKLMNOPQRSTUVWXYZ

This page was generated on 2024-03-29 11:36:38 -0400 (Fri, 29 Mar 2024).

HostnameOSArch (*)R versionInstalled pkgs
nebbiolo2Linux (Ubuntu 22.04.3 LTS)x86_644.3.3 (2024-02-29) -- "Angel Food Cake" 4669
palomino4Windows Server 2022 Datacenterx644.3.3 (2024-02-29 ucrt) -- "Angel Food Cake" 4404
merida1macOS 12.7.1 Montereyx86_644.3.3 (2024-02-29) -- "Angel Food Cake" 4427
Click on any hostname to see more info about the system (e.g. compilers)      (*) as reported by 'uname -p', except on Windows and Mac OS X

Package 369/2266HostnameOS / ArchINSTALLBUILDCHECKBUILD BIN
clusterExperiment 2.22.0  (landing page)
Elizabeth Purdom
Snapshot Date: 2024-03-27 14:05:05 -0400 (Wed, 27 Mar 2024)
git_url: https://git.bioconductor.org/packages/clusterExperiment
git_branch: RELEASE_3_18
git_last_commit: e99c78d
git_last_commit_date: 2023-10-24 10:51:18 -0400 (Tue, 24 Oct 2023)
nebbiolo2Linux (Ubuntu 22.04.3 LTS) / x86_64  OK    OK    WARNINGS  UNNEEDED, same version is already published
palomino4Windows Server 2022 Datacenter / x64  OK    OK    WARNINGS    OK  UNNEEDED, same version is already published
merida1macOS 12.7.1 Monterey / x86_64  OK    OK    WARNINGS    OK  UNNEEDED, same version is already published
kjohnson1macOS 13.6.1 Ventura / arm64see weekly results here

BUILD BIN results for clusterExperiment on palomino4


To the developers/maintainers of the clusterExperiment package:
- Allow up to 24 hours (and sometimes 48 hours) for your latest push to git@git.bioconductor.org:packages/clusterExperiment.git to reflect on this report. See Troubleshooting Build Report for more information.
- Use the following Renviron settings to reproduce errors and warnings.
- If 'R CMD check' started to fail recently on the Linux builder(s) over a missing dependency, add the missing dependency to 'Suggests:' in your DESCRIPTION file. See Renviron.bioc for more information.

raw results


Summary

Package: clusterExperiment
Version: 2.22.0
Command: rm -rf clusterExperiment.buildbin-libdir && mkdir clusterExperiment.buildbin-libdir && F:\biocbuild\bbs-3.18-bioc\R\bin\R.exe CMD INSTALL --build --library=clusterExperiment.buildbin-libdir clusterExperiment_2.22.0.tar.gz
StartedAt: 2024-03-28 06:52:09 -0400 (Thu, 28 Mar 2024)
EndedAt: 2024-03-28 06:53:52 -0400 (Thu, 28 Mar 2024)
EllapsedTime: 102.6 seconds
RetCode: 0
Status:   OK  
PackageFile: clusterExperiment_2.22.0.zip
PackageFileSize: 9.035 MiB

Command output

##############################################################################
##############################################################################
###
### Running command:
###
###   rm -rf clusterExperiment.buildbin-libdir && mkdir clusterExperiment.buildbin-libdir && F:\biocbuild\bbs-3.18-bioc\R\bin\R.exe CMD INSTALL --build --library=clusterExperiment.buildbin-libdir clusterExperiment_2.22.0.tar.gz
###
##############################################################################
##############################################################################


* installing *source* package 'clusterExperiment' ...
** using staged installation
** libs
using C++ compiler: 'G__~1.EXE (GCC) 12.3.0'
using C++11
g++  -std=gnu++11 -I"F:/biocbuild/bbs-3.18-bioc/R/include" -DNDEBUG  -I'F:/biocbuild/bbs-3.18-bioc/R/library/Rcpp/include'   -I"C:/rtools43/x86_64-w64-mingw32.static.posix/include"     -O2 -Wall  -mfpmath=sse -msse2 -mstackrealign  -c RcppExports.cpp -o RcppExports.o
g++  -std=gnu++11 -I"F:/biocbuild/bbs-3.18-bioc/R/include" -DNDEBUG  -I'F:/biocbuild/bbs-3.18-bioc/R/library/Rcpp/include'   -I"C:/rtools43/x86_64-w64-mingw32.static.posix/include"     -O2 -Wall  -mfpmath=sse -msse2 -mstackrealign  -c search_pairs.cpp -o search_pairs.o
g++  -std=gnu++11 -I"F:/biocbuild/bbs-3.18-bioc/R/include" -DNDEBUG  -I'F:/biocbuild/bbs-3.18-bioc/R/library/Rcpp/include'   -I"C:/rtools43/x86_64-w64-mingw32.static.posix/include"     -O2 -Wall  -mfpmath=sse -msse2 -mstackrealign  -c subsampleLoop.cpp -o subsampleLoop.o
g++ -shared -s -static-libgcc -o clusterExperiment.dll tmp.def RcppExports.o search_pairs.o subsampleLoop.o -LF:/biocbuild/bbs-3.18-bioc/R/bin/x64 -lRlapack -LF:/biocbuild/bbs-3.18-bioc/R/bin/x64 -lRblas -lgfortran -lm -lquadmath -LC:/rtools43/x86_64-w64-mingw32.static.posix/lib/x64 -LC:/rtools43/x86_64-w64-mingw32.static.posix/lib -LF:/biocbuild/bbs-3.18-bioc/R/bin/x64 -lR
installing to F:/biocbuild/bbs-3.18-bioc/meat/clusterExperiment.buildbin-libdir/00LOCK-clusterExperiment/00new/clusterExperiment/libs/x64
** R
** data
** inst
** byte-compile and prepare package for lazy loading
Found more than one class "Annotated" in cache; using the first, from namespace 'S4Vectors'
Also defined by 'RNeXML'
Found more than one class "Annotated" in cache; using the first, from namespace 'S4Vectors'
Also defined by 'RNeXML'
Found more than one class "Annotated" in cache; using the first, from namespace 'S4Vectors'
Also defined by 'RNeXML'
Found more than one class "Annotated" in cache; using the first, from namespace 'S4Vectors'
Also defined by 'RNeXML'
** help
*** installing help indices
** building package indices
** installing vignettes
** testing if installed package can be loaded from temporary location
** testing if installed package can be loaded from final location
** testing if installed package keeps a record of temporary installation path
* MD5 sums
packaged installation of 'clusterExperiment' as clusterExperiment_2.22.0.zip
* DONE (clusterExperiment)