Name | Last modified | Size | Description | |
---|---|---|---|---|
Parent Directory | - | |||
install-summary.dcf | 10-Jul-2024 06:39 | 252 | ||
install-out.txt | 10-Jul-2024 06:39 | 1.0K | ||
checksrc-summary.dcf | 10-Jul-2024 06:39 | 407 | ||
checksrc-out.txt | 10-Jul-2024 06:39 | 4.6K | ||
buildsrc-summary.dcf | 10-Jul-2024 06:39 | 408 | ||
buildsrc-out.txt | 10-Jul-2024 06:39 | 794 | ||