Name | Last modified | Size | Description | |
---|---|---|---|---|
Parent Directory | - | |||
buildbin-out.txt | 12-Jun-2024 03:43 | 1.2K | ||
buildbin-summary.dcf | 12-Jun-2024 03:43 | 511 | ||
buildsrc-out.txt | 12-Jun-2024 03:43 | 804 | ||
buildsrc-summary.dcf | 12-Jun-2024 03:43 | 418 | ||
checksrc-out.txt | 12-Jun-2024 03:43 | 4.8K | ||
checksrc-summary.dcf | 12-Jun-2024 03:43 | 437 | ||
install-out.txt | 12-Jun-2024 03:43 | 1.0K | ||
install-summary.dcf | 12-Jun-2024 03:43 | 262 | ||