Name | Last modified | Size | Description | |
---|---|---|---|---|
Parent Directory | - | |||
buildbin-out.txt | 07-Mar-2024 01:33 | 5.1K | ||
buildbin-summary.dcf | 07-Mar-2024 01:33 | 522 | ||
buildsrc-out.txt | 18-Apr-2024 00:36 | 950 | ||
buildsrc-summary.dcf | 18-Apr-2024 00:36 | 370 | ||
checksrc-out.txt | 07-Mar-2024 01:33 | 4.9K | ||
checksrc-summary.dcf | 07-Mar-2024 01:33 | 451 | ||
install-out.txt | 18-Apr-2024 00:36 | 623 | ||
install-summary.dcf | 18-Apr-2024 00:36 | 272 | ||