Name | Last modified | Size | Description | |
---|---|---|---|---|
Parent Directory | - | |||
buildsrc-out.txt | 18-Apr-2024 00:35 | 895 | ||
buildsrc-summary.dcf | 18-Apr-2024 00:35 | 334 | ||
checksrc-out.txt | 07-Mar-2024 01:33 | 4.5K | ||
checksrc-summary.dcf | 07-Mar-2024 01:33 | 418 | ||
install-out.txt | 18-Apr-2024 00:35 | 640 | ||
install-summary.dcf | 18-Apr-2024 00:35 | 263 | ||