Name | Last modified | Size | Description | |
---|---|---|---|---|
Parent Directory | - | |||
install-out.txt | 17-Jul-2024 06:38 | 4.9K | ||
checksrc-out.txt | 17-Jan-2024 03:16 | 4.4K | ||
buildsrc-out.txt | 17-Jul-2024 06:38 | 1.1K | ||
checksrc-summary.dcf | 17-Jan-2024 03:16 | 418 | ||
buildsrc-summary.dcf | 17-Jul-2024 06:38 | 335 | ||
install-summary.dcf | 17-Jul-2024 06:38 | 261 | ||