Index of /checkResults/release/bioc-LATEST/cliqueMS/raw-results/merida1
Name
Last modified
Size
Description
Parent Directory
-
buildsrc-out.txt
18-Apr-2024 00:37
912
buildsrc-summary.dcf
18-Apr-2024 00:37
344
install-out.txt
18-Apr-2024 00:37
700
install-summary.dcf
18-Apr-2024 00:37
273