Index of /checkResults/release/bioc-LATEST/cliqueMS/raw-results/kjohnson3
Name
Last modified
Size
Description
Parent Directory
-
install-out.txt
12-Jun-2024 03:43
4.4K
buildsrc-out.txt
12-Jun-2024 03:43
1.1K
buildsrc-summary.dcf
12-Jun-2024 03:43
345
install-summary.dcf
12-Jun-2024 03:43
271