Back to Multiple platform build/check report for BioC 3.14
AB[C]DEFGHIJKLMNOPQRSTUVWXYZ

This page was generated on 2021-12-01 17:17:44 -0500 (Wed, 01 Dec 2021).

BUILD BIN results for circRNAprofiler on tokay2

To the developers/maintainers of the circRNAprofiler package:
- Please allow up to 24 hours (and sometimes 48 hours) for your latest push to git@git.bioconductor.org:packages/circRNAprofiler.git to
reflect on this report. See How and When does the builder pull? When will my changes propagate? here for more information.
- Make sure to use the following settings in order to reproduce any error or warning you see on this page.

raw results

Package 321/2083HostnameOS / ArchINSTALLBUILDCHECKBUILD BIN
circRNAprofiler 1.8.0  (landing page)
Simona Aufiero
Snapshot Date: 2021-11-30 04:15:05 -0500 (Tue, 30 Nov 2021)
git_url: https://git.bioconductor.org/packages/circRNAprofiler
git_branch: RELEASE_3_14
git_last_commit: 92fcc06
git_last_commit_date: 2021-10-26 12:53:01 -0500 (Tue, 26 Oct 2021)
nebbiolo2Linux (Ubuntu 20.04.3 LTS) / x86_64  OK    OK    OK  UNNEEDED, same version is already published
tokay2Windows Server 2012 R2 Standard / x64  OK    OK    OK    OK  UNNEEDED, same version is already published
machv2macOS 10.14.6 Mojave / x86_64  OK    OK    OK    OK  UNNEEDED, same version is already published

Summary

Package: circRNAprofiler
Version: 1.8.0
Command: rm -rf circRNAprofiler.buildbin-libdir && mkdir circRNAprofiler.buildbin-libdir && C:\Users\biocbuild\bbs-3.14-bioc\R\bin\R.exe CMD INSTALL --merge-multiarch --build --library=circRNAprofiler.buildbin-libdir circRNAprofiler_1.8.0.tar.gz
StartedAt: 2021-12-01 09:08:04 -0500 (Wed, 01 Dec 2021)
EndedAt: 2021-12-01 09:09:33 -0500 (Wed, 01 Dec 2021)
EllapsedTime: 88.8 seconds
RetCode: 0
Status:   OK  
PackageFile: circRNAprofiler_1.8.0.zip
PackageFileSize: 3.412 MiB

Command output

##############################################################################
##############################################################################
###
### Running command:
###
###   rm -rf circRNAprofiler.buildbin-libdir && mkdir circRNAprofiler.buildbin-libdir && C:\Users\biocbuild\bbs-3.14-bioc\R\bin\R.exe CMD INSTALL --merge-multiarch --build --library=circRNAprofiler.buildbin-libdir circRNAprofiler_1.8.0.tar.gz
###
##############################################################################
##############################################################################



install for i386

* installing *source* package 'circRNAprofiler' ...
** using staged installation
** R
** data
** inst
** byte-compile and prepare package for lazy loading
** help
*** installing help indices
  converting help for package 'circRNAprofiler'
    finding HTML links ... done
    ahChainFiles                            html  
    ahRepeatMasker                          html  
    annotateBSJs                            html  
    annotateRepeats                         html  
    finding level-2 HTML links ... done

    annotateSNPsGWAS                        html  
    attractSpecies                          html  
    backSplicedJunctions                    html  
    checkProjectFolder                      html  
    filterCirc                              html  
    formatGTF                               html  
    getBackSplicedJunctions                 html  
    getCircSeqs                             html  
    getDeseqRes                             html  
    getDetectionTools                       html  
    getEdgerRes                             html  
    getMiRsites                             html  
    getMotifs                               html  
    getRandomBSJunctions                    html  
    getRegexPattern                         html  
    getSeqsAcrossBSJs                       html  
    getSeqsFromGRs                          html  
    gtf                                     html  
    gwasTraits                              html  
    importCircExplorer2                     html  
    importCircMarker                        html  
    importKnife                             html  
    importMapSplice                         html  
    importNCLscan                           html  
    importOther                             html  
    importUroborus                          html  
    initCircRNAprofiler                     html  
    iupac                                   html  
    liftBSJcoords                           html  
    memeDB                                  html  
    mergeBSJunctions                        html  
    mergeMotifs                             html  
    mergedBSJunctions                       html  
    miRspeciesCodes                         html  
    plotExBetweenBSEs                       html  
    plotExPosition                          html  
    plotHostGenes                           html  
    plotLenBSEs                             html  
    plotLenIntrons                          html  
    plotMiR                                 html  
    plotMotifs                              html  
    plotTotExons                            html  
    rearrangeMiRres                         html  
    volcanoPlot                             html  
** building package indices
** installing vignettes
** testing if installed package can be loaded from temporary location
** testing if installed package can be loaded from final location
** testing if installed package keeps a record of temporary installation path

install for x64

* installing *source* package 'circRNAprofiler' ...
** testing if installed package can be loaded
* MD5 sums
packaged installation of 'circRNAprofiler' as circRNAprofiler_1.8.0.zip
* DONE (circRNAprofiler)