Index of /checkResults/release/bioc-LATEST/circRNAprofiler/raw-results/palomino3

[ICO]NameLast modifiedSizeDescription

[DIR]Parent Directory  -  
[TXT]buildbin-out.txt25-Jun-2022 01:05 1.1K 
[   ]buildbin-summary.dcf25-Jun-2022 01:05 563  
[TXT]buildsrc-out.txt25-Jun-2022 01:05 939  
[   ]buildsrc-summary.dcf25-Jun-2022 01:05 485  
[TXT]checksrc-out.txt25-Jun-2022 01:05 3.6K 
[   ]checksrc-summary.dcf25-Jun-2022 01:05 479  
[TXT]install-out.txt25-Jun-2022 01:05 1.0K 
[   ]install-summary.dcf25-Jun-2022 01:05 284