Index of /checkResults/release/bioc-LATEST/circRNAprofiler/raw-results

[ICO]NameLast modifiedSizeDescription

[DIR]Parent Directory  -  
[   ]info.dcf06-Jun-2023 00:05 291  
[DIR]merida1/06-Jun-2023 00:05 -  
[DIR]nebbiolo1/06-Jun-2023 00:03 -  
[DIR]palomino3/06-Jun-2023 00:04 -