Name | Last modified | Size | Description | |
---|---|---|---|---|
Parent Directory | - | |||
buildsrc-out.txt | 30-Mar-2024 00:35 | 868 | ||
buildsrc-summary.dcf | 30-Mar-2024 00:35 | 330 | ||
checksrc-out.txt | 07-Mar-2024 01:33 | 4.6K | ||
checksrc-summary.dcf | 07-Mar-2024 01:33 | 410 | ||
install-out.txt | 30-Mar-2024 00:35 | 632 | ||
install-summary.dcf | 30-Mar-2024 00:35 | 259 | ||