Name | Last modified | Size | Description | |
---|---|---|---|---|
Parent Directory | - | |||
checksrc-out.txt | 27-Jul-2024 06:38 | 4.5K | ||
checksrc-summary.dcf | 27-Jul-2024 06:38 | 410 | ||
buildsrc-summary.dcf | 27-Jul-2024 06:38 | 415 | ||
buildsrc-out.txt | 27-Jul-2024 06:38 | 802 | ||
install-summary.dcf | 27-Jul-2024 06:38 | 257 | ||
install-out.txt | 27-Jul-2024 06:38 | 1.0K | ||