Name | Last modified | Size | Description | |
---|---|---|---|---|
Parent Directory | - | |||
buildbin-out.txt | 27-Jul-2024 06:40 | 1.2K | ||
buildbin-summary.dcf | 27-Jul-2024 06:40 | 525 | ||
buildsrc-out.txt | 27-Jul-2024 06:40 | 812 | ||
buildsrc-summary.dcf | 27-Jul-2024 06:40 | 425 | ||
checksrc-out.txt | 27-Jul-2024 06:40 | 4.9K | ||
checksrc-summary.dcf | 27-Jul-2024 06:40 | 441 | ||
install-out.txt | 27-Jul-2024 06:40 | 1.0K | ||
install-summary.dcf | 27-Jul-2024 06:40 | 268 | ||