Name | Last modified | Size | Description | |
---|---|---|---|---|
Parent Directory | - | |||
checksrc-out.txt | 13-Jul-2024 06:38 | 7.3K | ||
checksrc-summary.dcf | 13-Jul-2024 06:38 | 422 | ||
buildsrc-out.txt | 13-Jul-2024 06:38 | 1.2K | ||
buildsrc-summary.dcf | 13-Jul-2024 06:38 | 424 | ||
install-out.txt | 13-Jul-2024 06:38 | 2.1K | ||
install-summary.dcf | 13-Jul-2024 06:38 | 263 | ||