Index of /checkResults/release/bioc-LATEST/chromstaR/raw-results/kunpeng2
Name
Last modified
Size
Description
Parent Directory
-
buildsrc-out.txt
10-May-2024 00:40
1.5K
buildsrc-summary.dcf
10-May-2024 00:40
349
install-out.txt
10-May-2024 00:40
2.2K
install-summary.dcf
10-May-2024 00:40
274