Index of /checkResults/release/bioc-LATEST/chromstaR/raw-results/kunpeng2
Name
Last modified
Size
Description
Parent Directory
-
buildsrc-out.txt
03-Nov-2023 00:40
1.5K
buildsrc-summary.dcf
03-Nov-2023 00:40
332
install-out.txt
03-Nov-2023 00:40
2.0K
install-summary.dcf
03-Nov-2023 00:40
257