Back to Multiple platform build/check report for BioC 3.18:   simplified   long
AB[C]DEFGHIJKLMNOPQRSTUVWXYZ

This page was generated on 2024-02-29 11:35:49 -0500 (Thu, 29 Feb 2024).

HostnameOSArch (*)R versionInstalled pkgs
nebbiolo2Linux (Ubuntu 22.04.3 LTS)x86_644.3.2 Patched (2023-11-13 r85521) -- "Eye Holes" 4692
palomino4Windows Server 2022 Datacenterx644.3.2 (2023-10-31 ucrt) -- "Eye Holes" 4445
lconwaymacOS 12.7.1 Montereyx86_644.3.2 Patched (2023-11-01 r85457) -- "Eye Holes" 4466
Click on any hostname to see more info about the system (e.g. compilers)      (*) as reported by 'uname -p', except on Windows and Mac OS X

Package 345/2266HostnameOS / ArchINSTALLBUILDCHECKBUILD BIN
chromstaR 1.28.0  (landing page)
Aaron Taudt
Snapshot Date: 2024-02-28 14:05:05 -0500 (Wed, 28 Feb 2024)
git_url: https://git.bioconductor.org/packages/chromstaR
git_branch: RELEASE_3_18
git_last_commit: b61ea88
git_last_commit_date: 2023-10-24 10:51:00 -0500 (Tue, 24 Oct 2023)
nebbiolo2Linux (Ubuntu 22.04.3 LTS) / x86_64  OK    OK    OK  UNNEEDED, same version is already published
palomino4Windows Server 2022 Datacenter / x64  OK    OK    OK    OK  UNNEEDED, same version is already published
lconwaymacOS 12.7.1 Monterey / x86_64  OK    OK    OK    OK  UNNEEDED, same version is already published
kjohnson1macOS 13.6.1 Ventura / arm64see weekly results here

INSTALL results for chromstaR on nebbiolo2


To the developers/maintainers of the chromstaR package:
- Allow up to 24 hours (and sometimes 48 hours) for your latest push to git@git.bioconductor.org:packages/chromstaR.git to reflect on this report. See Troubleshooting Build Report for more information.
- Use the following Renviron settings to reproduce errors and warnings.
- If 'R CMD check' started to fail recently on the Linux builder(s) over a missing dependency, add the missing dependency to 'Suggests:' in your DESCRIPTION file. See Renviron.bioc for more information.

raw results


Summary

Package: chromstaR
Version: 1.28.0
Command: /home/biocbuild/bbs-3.18-bioc/R/bin/R CMD INSTALL chromstaR
StartedAt: 2024-02-28 15:14:53 -0500 (Wed, 28 Feb 2024)
EndedAt: 2024-02-28 15:15:31 -0500 (Wed, 28 Feb 2024)
EllapsedTime: 38.1 seconds
RetCode: 0
Status:   OK  

Command output

##############################################################################
##############################################################################
###
### Running command:
###
###   /home/biocbuild/bbs-3.18-bioc/R/bin/R CMD INSTALL chromstaR
###
##############################################################################
##############################################################################


* installing to library ‘/home/biocbuild/bbs-3.18-bioc/R/site-library’
* installing *source* package ‘chromstaR’ ...
** using staged installation
** libs
using C++ compiler: ‘g++ (Ubuntu 11.4.0-1ubuntu1~22.04) 11.4.0’
g++ -std=gnu++17 -I"/home/biocbuild/bbs-3.18-bioc/R/include" -DNDEBUG   -I/usr/local/include   -fopenmp -fpic  -g -O2  -Wall -c R_interface.cpp -o R_interface.o
g++ -std=gnu++17 -I"/home/biocbuild/bbs-3.18-bioc/R/include" -DNDEBUG   -I/usr/local/include   -fopenmp -fpic  -g -O2  -Wall -c densities.cpp -o densities.o
g++ -std=gnu++17 -I"/home/biocbuild/bbs-3.18-bioc/R/include" -DNDEBUG   -I/usr/local/include   -fopenmp -fpic  -g -O2  -Wall -c init.cpp -o init.o
g++ -std=gnu++17 -I"/home/biocbuild/bbs-3.18-bioc/R/include" -DNDEBUG   -I/usr/local/include   -fopenmp -fpic  -g -O2  -Wall -c scalehmm.cpp -o scalehmm.o
g++ -std=gnu++17 -I"/home/biocbuild/bbs-3.18-bioc/R/include" -DNDEBUG   -I/usr/local/include   -fopenmp -fpic  -g -O2  -Wall -c utility.cpp -o utility.o
g++ -std=gnu++17 -shared -L/home/biocbuild/bbs-3.18-bioc/R/lib -L/usr/local/lib -o chromstaR.so R_interface.o densities.o init.o scalehmm.o utility.o -fopenmp -L/home/biocbuild/bbs-3.18-bioc/R/lib -lR
installing to /home/biocbuild/bbs-3.18-bioc/R/site-library/00LOCK-chromstaR/00new/chromstaR/libs
** R
** data
** inst
** byte-compile and prepare package for lazy loading
** help
*** installing help indices
** building package indices
** installing vignettes
** testing if installed package can be loaded from temporary location
** checking absolute paths in shared objects and dynamic libraries
** testing if installed package can be loaded from final location
** testing if installed package keeps a record of temporary installation path
* DONE (chromstaR)