Index of /checkResults/release/bioc-LATEST/cghMCR/raw-results/nebbiolo2

[ICO]NameLast modifiedSizeDescription

[DIR]Parent Directory  -  
[TXT]buildsrc-out.txt02-Mar-2024 01:35 865  
[   ]buildsrc-summary.dcf02-Mar-2024 01:35 414  
[TXT]checksrc-out.txt02-Mar-2024 01:35 6.8K 
[   ]checksrc-summary.dcf02-Mar-2024 01:35 416  
[TXT]install-out.txt02-Mar-2024 01:35 957  
[   ]install-summary.dcf02-Mar-2024 01:35 257