Index of /checkResults/release/bioc-LATEST/cfTools/raw-results/palomino7
Name
Last modified
Size
Description
Parent Directory
-
buildsrc-out.txt
17-Jul-2024 06:39
43K
buildsrc-summary.dcf
17-Jul-2024 06:39
379
install-out.txt
17-Jul-2024 06:39
431K
install-summary.dcf
17-Jul-2024 06:39
268