Name | Last modified | Size | Description | |
---|---|---|---|---|
Parent Directory | - | |||
checksrc-out.txt | 15-Jun-2024 03:37 | 3.4K | ||
install-out.txt | 15-Jun-2024 03:37 | 1.0K | ||
buildsrc-out.txt | 15-Jun-2024 03:37 | 806 | ||
buildsrc-summary.dcf | 15-Jun-2024 03:37 | 417 | ||
checksrc-summary.dcf | 15-Jun-2024 03:37 | 414 | ||
install-summary.dcf | 15-Jun-2024 03:37 | 259 | ||