Name | Last modified | Size | Description | |
---|---|---|---|---|
Parent Directory | - | |||
install-summary.dcf | 27-Jul-2024 06:39 | 265 | ||
install-out.txt | 27-Jul-2024 06:39 | 519K | ||
checksrc-summary.dcf | 27-Jul-2024 06:39 | 439 | ||
checksrc-out.txt | 27-Jul-2024 06:39 | 5.2K | ||
buildsrc-summary.dcf | 27-Jul-2024 06:39 | 444 | ||
buildsrc-out.txt | 27-Jul-2024 06:39 | 861 | ||
buildbin-summary.dcf | 27-Jul-2024 06:39 | 504 | ||
buildbin-out.txt | 27-Jul-2024 06:39 | 519K | ||