Index of /checkResults/release/bioc-LATEST/celda/raw-results/nebbiolo1

[ICO]NameLast modifiedSizeDescription

[DIR]Parent Directory  -  
[TXT]buildsrc-out.txt15-Jun-2024 03:37 828  
[   ]buildsrc-summary.dcf15-Jun-2024 03:37 412  
[TXT]checksrc-out.txt15-Jun-2024 03:37 4.5K 
[   ]checksrc-summary.dcf15-Jun-2024 03:37 406  
[TXT]install-out.txt15-Jun-2024 03:37 576K 
[   ]install-summary.dcf15-Jun-2024 03:37 255