Name | Last modified | Size | Description | |
---|---|---|---|---|
Parent Directory | - | |||
checksrc-summary.dcf | 27-Jul-2024 06:37 | 416 | ||
checksrc-out.txt | 27-Jul-2024 06:37 | 3.9K | ||
buildsrc-out.txt | 27-Jul-2024 06:37 | 879 | ||
buildsrc-summary.dcf | 27-Jul-2024 06:37 | 419 | ||
install-out.txt | 27-Jul-2024 06:37 | 873K | ||
install-summary.dcf | 27-Jul-2024 06:37 | 260 | ||