Name | Last modified | Size | Description | |
---|---|---|---|---|
Parent Directory | - | |||
install-summary.dcf | 24-Jul-2024 22:05 | 273 | ||
install-out.txt | 24-Jul-2024 22:05 | 1.9K | ||
checksrc-summary.dcf | 20-Jul-2024 06:39 | 446 | ||
checksrc-out.txt | 20-Jul-2024 06:39 | 4.3K | ||
buildsrc-summary.dcf | 24-Jul-2024 22:05 | 344 | ||
buildsrc-out.txt | 24-Jul-2024 22:05 | 2.0K | ||
buildbin-summary.dcf | 20-Jul-2024 06:39 | 533 | ||
buildbin-out.txt | 20-Jul-2024 06:39 | 6.5K | ||