Name | Last modified | Size | Description | |
---|---|---|---|---|
Parent Directory | - | |||
buildsrc-out.txt | 10-May-2024 00:40 | 890 | ||
buildsrc-summary.dcf | 10-May-2024 00:40 | 430 | ||
checksrc-out.txt | 10-May-2024 00:40 | 4.3K | ||
checksrc-summary.dcf | 10-May-2024 00:40 | 452 | ||
install-out.txt | 10-May-2024 00:40 | 2.6K | ||
install-summary.dcf | 10-May-2024 00:40 | 271 | ||