Name | Last modified | Size | Description | |
---|---|---|---|---|
Parent Directory | - | |||
buildbin-out.txt | 12-Jun-2024 03:43 | 13K | ||
buildbin-summary.dcf | 12-Jun-2024 03:43 | 533 | ||
buildsrc-out.txt | 12-Jun-2024 03:43 | 889 | ||
buildsrc-summary.dcf | 12-Jun-2024 03:43 | 429 | ||
checksrc-out.txt | 12-Jun-2024 03:43 | 4.2K | ||
checksrc-summary.dcf | 12-Jun-2024 03:43 | 445 | ||
install-out.txt | 12-Jun-2024 03:43 | 9.5K | ||
install-summary.dcf | 12-Jun-2024 03:43 | 270 | ||