Name | Last modified | Size | Description | |
---|---|---|---|---|
Parent Directory | - | |||
checksrc-out.txt | 20-Jul-2024 06:40 | 4.2K | ||
checksrc-summary.dcf | 20-Jul-2024 06:40 | 445 | ||
buildbin-out.txt | 20-Jul-2024 06:40 | 13K | ||
buildbin-summary.dcf | 20-Jul-2024 06:40 | 533 | ||
install-summary.dcf | 24-Jul-2024 22:07 | 272 | ||
install-out.txt | 24-Jul-2024 22:07 | 8.5K | ||
buildsrc-out.txt | 24-Jul-2024 22:07 | 8.6K | ||
buildsrc-summary.dcf | 24-Jul-2024 22:07 | 344 | ||