Index of /checkResults/release/bioc-LATEST/cbpManager/raw-results/palomino3

[ICO]NameLast modifiedSizeDescription

[DIR]Parent Directory  -  
[TXT]buildbin-out.txt02-Jul-2022 01:06 971  
[   ]buildbin-summary.dcf02-Jul-2022 01:06 529  
[TXT]buildsrc-out.txt02-Jul-2022 01:06 972  
[   ]buildsrc-summary.dcf02-Jul-2022 01:06 462  
[TXT]checksrc-out.txt02-Jul-2022 01:06 4.7K 
[   ]checksrc-summary.dcf02-Jul-2022 01:06 462  
[TXT]install-out.txt02-Jul-2022 01:06 829  
[   ]install-summary.dcf02-Jul-2022 01:06 273