Name | Last modified | Size | Description | |
---|---|---|---|---|
Parent Directory | - | |||
buildsrc-out.txt | 18-Apr-2024 00:35 | 858 | ||
buildsrc-summary.dcf | 18-Apr-2024 00:35 | 426 | ||
checksrc-out.txt | 18-Apr-2024 00:35 | 5.0K | ||
checksrc-summary.dcf | 18-Apr-2024 00:35 | 431 | ||
install-out.txt | 18-Apr-2024 00:35 | 821 | ||
install-summary.dcf | 18-Apr-2024 00:35 | 264 | ||