Index of /checkResults/release/bioc-LATEST/cbpManager/raw-results/merida1

[ICO]NameLast modifiedSizeDescription

[DIR]Parent Directory  -  
[TXT]buildbin-out.txt02-Jul-2022 01:07 1.0K 
[   ]buildbin-summary.dcf02-Jul-2022 01:07 545  
[TXT]buildsrc-out.txt02-Jul-2022 01:07 867  
[   ]buildsrc-summary.dcf02-Jul-2022 01:07 434  
[TXT]checksrc-out.txt02-Jul-2022 01:07 4.8K 
[   ]checksrc-summary.dcf02-Jul-2022 01:07 460  
[TXT]install-out.txt02-Jul-2022 01:07 849  
[   ]install-summary.dcf02-Jul-2022 01:07 274