Name | Last modified | Size | Description | |
---|---|---|---|---|
Parent Directory | - | |||
buildbin-out.txt | 24-Jul-2024 22:04 | 1.0K | ||
buildbin-summary.dcf | 24-Jul-2024 22:04 | 497 | ||
buildsrc-out.txt | 24-Jul-2024 22:04 | 861 | ||
buildsrc-summary.dcf | 24-Jul-2024 22:04 | 440 | ||
checksrc-out.txt | 24-Jul-2024 22:04 | 3.2K | ||
checksrc-summary.dcf | 24-Jul-2024 22:04 | 435 | ||
install-out.txt | 24-Jul-2024 22:04 | 953 | ||
install-summary.dcf | 24-Jul-2024 22:04 | 262 | ||