Name | Last modified | Size | Description | |
---|---|---|---|---|
Parent Directory | - | |||
buildsrc-out.txt | 24-Jul-2024 22:03 | 834 | ||
buildsrc-summary.dcf | 24-Jul-2024 22:03 | 408 | ||
checksrc-out.txt | 24-Jul-2024 22:03 | 3.2K | ||
checksrc-summary.dcf | 24-Jul-2024 22:03 | 402 | ||
install-out.txt | 24-Jul-2024 22:03 | 943 | ||
install-summary.dcf | 24-Jul-2024 22:03 | 253 | ||