Index of /checkResults/release/bioc-LATEST/categoryCompare/raw-results
Name
Last modified
Size
Description
Parent Directory
-
info.dcf
10-Dec-2023 01:37
290
kunpeng2/
03-Nov-2023 00:40
-
lconway/
10-Dec-2023 01:37
-
nebbiolo2/
10-Dec-2023 01:35
-
palomino4/
10-Dec-2023 01:36
-