Index of /checkResults/release/bioc-LATEST/casper/raw-results/palomino4

[ICO]NameLast modifiedSizeDescription

[DIR]Parent Directory  -  
[TXT]buildbin-out.txt30-Mar-2024 00:36 28K 
[   ]buildbin-summary.dcf30-Mar-2024 00:36 509  
[TXT]buildsrc-out.txt30-Mar-2024 00:36 926  
[   ]buildsrc-summary.dcf30-Mar-2024 00:36 449  
[TXT]checksrc-out.txt30-Mar-2024 00:36 5.2K 
[   ]checksrc-summary.dcf30-Mar-2024 00:36 449  
[TXT]install-out.txt30-Mar-2024 00:36 28K 
[   ]install-summary.dcf30-Mar-2024 00:36 267